BEGIN:VCALENDAR
VERSION:2.0
CALSCALE:GREGORIAN
BEGIN:VEVENT
URL:https://www.learndesk.us/class/6114196099956736/lesson/f7a7a8cea6c0cb789dc6e7479570d25f?ref=outlook-calendar
SUMMARY:Video - Create and use a security group
DTSTART;TZID=America/Los_Angeles:20260421T190000
DTEND;TZID=America/Los_Angeles:20260421T200000
LOCATION:https://www.learndesk.us/class/6114196099956736/lesson/f7a7a8cea6c0cb789dc6e7479570d25f?ref=outlook-calendar
DESCRIPTION: In this short video, you will learn how to great a security group in Active Directory Users and Computers.

https://www.learndesk.us/class/6114196099956736/lesson/f7a7a8cea6c0cb789dc6e7479570d25f?ref=outlook-calendar
STATUS:CONFIRMED
SEQUENCE:3
BEGIN:VALARM
TRIGGER:-PT10M
DESCRIPTION:Class Reminder
ACTION:DISPLAY
END:VALARM
END:VEVENT
END:VCALENDAR