BEGIN:VCALENDAR
VERSION:2.0
CALSCALE:GREGORIAN
BEGIN:VEVENT
URL:https://www.learndesk.us/class/6114196099956736/lesson/f68addaf11842e75932a1395713d9bab?ref=outlook-calendar
SUMMARY:Video - Deploy printers using Group Policy in Windows Server 2016
DTSTART;TZID=America/Los_Angeles:20260421T190000
DTEND;TZID=America/Los_Angeles:20260421T200000
LOCATION:https://www.learndesk.us/class/6114196099956736/lesson/f68addaf11842e75932a1395713d9bab?ref=outlook-calendar
DESCRIPTION: In this short video, you will learn how to easily deploy printers using Group Policy.

https://www.learndesk.us/class/6114196099956736/lesson/f68addaf11842e75932a1395713d9bab?ref=outlook-calendar
STATUS:CONFIRMED
SEQUENCE:3
BEGIN:VALARM
TRIGGER:-PT10M
DESCRIPTION:Class Reminder
ACTION:DISPLAY
END:VALARM
END:VEVENT
END:VCALENDAR