BEGIN:VCALENDAR
VERSION:2.0
CALSCALE:GREGORIAN
BEGIN:VEVENT
URL:https://www.learndesk.us/class/6114196099956736/lesson/f58f05bdf18bd71e976c159dc27b297a?ref=outlook-calendar
SUMMARY:Video  - Create Virtual Install of Server 2016 Full GUI Using VirtualBox
DTSTART;TZID=America/Los_Angeles:20260421T190000
DTEND;TZID=America/Los_Angeles:20260421T200000
LOCATION:https://www.learndesk.us/class/6114196099956736/lesson/f58f05bdf18bd71e976c159dc27b297a?ref=outlook-calendar
DESCRIPTION: In this lab, you will learn how to create a virtual full install of Server 2016 with GUI.

https://www.learndesk.us/class/6114196099956736/lesson/f58f05bdf18bd71e976c159dc27b297a?ref=outlook-calendar
STATUS:CONFIRMED
SEQUENCE:3
BEGIN:VALARM
TRIGGER:-PT10M
DESCRIPTION:Class Reminder
ACTION:DISPLAY
END:VALARM
END:VEVENT
END:VCALENDAR