BEGIN:VCALENDAR
VERSION:2.0
CALSCALE:GREGORIAN
BEGIN:VEVENT
URL:https://www.learndesk.us/class/6114196099956736/lesson/ed95b335c37747fea13f0ef7e2f16693?ref=outlook-calendar
SUMMARY:Video -Transferring FSMO Roles in Active Directory
DTSTART;TZID=America/Los_Angeles:20260421T190000
DTEND;TZID=America/Los_Angeles:20260421T200000
LOCATION:https://www.learndesk.us/class/6114196099956736/lesson/ed95b335c37747fea13f0ef7e2f16693?ref=outlook-calendar
DESCRIPTION: In this lab, you will learn how to transfer the FSMO roles using Active Directory.

https://www.learndesk.us/class/6114196099956736/lesson/ed95b335c37747fea13f0ef7e2f16693?ref=outlook-calendar
STATUS:CONFIRMED
SEQUENCE:3
BEGIN:VALARM
TRIGGER:-PT10M
DESCRIPTION:Class Reminder
ACTION:DISPLAY
END:VALARM
END:VEVENT
END:VCALENDAR