BEGIN:VCALENDAR
VERSION:2.0
CALSCALE:GREGORIAN
BEGIN:VEVENT
URL:https://www.learndesk.us/class/6114196099956736/lesson/e745c547be676d15831cef2c24064e95?ref=outlook-calendar
SUMMARY:Video - How to edit group policy objects to affect a user
DTSTART;TZID=America/Los_Angeles:20260421T190000
DTEND;TZID=America/Los_Angeles:20260421T200000
LOCATION:https://www.learndesk.us/class/6114196099956736/lesson/e745c547be676d15831cef2c24064e95?ref=outlook-calendar
DESCRIPTION: In this short video, you will learn how to edit a GPO that will affect a user.

https://www.learndesk.us/class/6114196099956736/lesson/e745c547be676d15831cef2c24064e95?ref=outlook-calendar
STATUS:CONFIRMED
SEQUENCE:3
BEGIN:VALARM
TRIGGER:-PT10M
DESCRIPTION:Class Reminder
ACTION:DISPLAY
END:VALARM
END:VEVENT
END:VCALENDAR