BEGIN:VCALENDAR
VERSION:2.0
CALSCALE:GREGORIAN
BEGIN:VEVENT
URL:https://www.learndesk.us/class/6114196099956736/lesson/dd79a1b68f915499107b046740968adc?ref=outlook-calendar
SUMMARY:Video - Create Self Signed Certificate and Bind in IIS
DTSTART;TZID=America/Los_Angeles:20260421T190000
DTEND;TZID=America/Los_Angeles:20260421T200000
LOCATION:https://www.learndesk.us/class/6114196099956736/lesson/dd79a1b68f915499107b046740968adc?ref=outlook-calendar
DESCRIPTION: In this lab, you will learn how to how to create a Self Signed Certificate and Bind the certificate to an IIS web site in Windows Server 2016.

https://www.learndesk.us/class/6114196099956736/lesson/dd79a1b68f915499107b046740968adc?ref=outlook-calendar
STATUS:CONFIRMED
SEQUENCE:3
BEGIN:VALARM
TRIGGER:-PT10M
DESCRIPTION:Class Reminder
ACTION:DISPLAY
END:VALARM
END:VEVENT
END:VCALENDAR