BEGIN:VCALENDAR
VERSION:2.0
CALSCALE:GREGORIAN
BEGIN:VEVENT
URL:https://www.learndesk.us/class/6114196099956736/lesson/d7e66b269660173e76f7376628e5bb3b?ref=outlook-calendar
SUMMARY:Manage Files and Shares
DTSTART;TZID=America/Los_Angeles:20260421T190000
DTEND;TZID=America/Los_Angeles:20260421T200000
LOCATION:https://www.learndesk.us/class/6114196099956736/lesson/d7e66b269660173e76f7376628e5bb3b?ref=outlook-calendar
DESCRIPTION: In the section, students will learn how to configure and administer files and print sharing in Server 2016.

https://www.learndesk.us/class/6114196099956736/lesson/d7e66b269660173e76f7376628e5bb3b?ref=outlook-calendar
STATUS:CONFIRMED
SEQUENCE:3
BEGIN:VALARM
TRIGGER:-PT10M
DESCRIPTION:Class Reminder
ACTION:DISPLAY
END:VALARM
END:VEVENT
END:VCALENDAR