BEGIN:VCALENDAR
VERSION:2.0
CALSCALE:GREGORIAN
BEGIN:VEVENT
URL:https://www.learndesk.us/class/6114196099956736/lesson/d52a61ffb841c140059eb2597cfac911?ref=outlook-calendar
SUMMARY:Video - Create a secondary or backup DNS server using Server Core
DTSTART;TZID=America/Los_Angeles:20260421T190000
DTEND;TZID=America/Los_Angeles:20260421T200000
LOCATION:https://www.learndesk.us/class/6114196099956736/lesson/d52a61ffb841c140059eb2597cfac911?ref=outlook-calendar
DESCRIPTION: In this short video presentation, you will learn how to install DNS on Server Core to create a backup or secondary DNS server. This procedure works for Server 2012, 2016 or Server 2019.

https://www.learndesk.us/class/6114196099956736/lesson/d52a61ffb841c140059eb2597cfac911?ref=outlook-calendar
STATUS:CONFIRMED
SEQUENCE:3
BEGIN:VALARM
TRIGGER:-PT10M
DESCRIPTION:Class Reminder
ACTION:DISPLAY
END:VALARM
END:VEVENT
END:VCALENDAR