BEGIN:VCALENDAR
VERSION:2.0
CALSCALE:GREGORIAN
BEGIN:VEVENT
URL:https://www.learndesk.us/class/6114196099956736/lesson/d239f944e84d2abef3b2779a808d8ab8?ref=outlook-calendar
SUMMARY:Operations (FSMO) Masters in Active Directory
DTSTART;TZID=America/Los_Angeles:20260421T190000
DTEND;TZID=America/Los_Angeles:20260421T200000
LOCATION:https://www.learndesk.us/class/6114196099956736/lesson/d239f944e84d2abef3b2779a808d8ab8?ref=outlook-calendar
DESCRIPTION: How to transfer FSMO Roles in Active Directory

https://www.learndesk.us/class/6114196099956736/lesson/d239f944e84d2abef3b2779a808d8ab8?ref=outlook-calendar
STATUS:CONFIRMED
SEQUENCE:3
BEGIN:VALARM
TRIGGER:-PT10M
DESCRIPTION:Class Reminder
ACTION:DISPLAY
END:VALARM
END:VEVENT
END:VCALENDAR