BEGIN:VCALENDAR
VERSION:2.0
CALSCALE:GREGORIAN
BEGIN:VEVENT
URL:https://www.learndesk.us/class/6114196099956736/lesson/c80d22b6233b1cd5a51a7178eb08c973?ref=outlook-calendar
SUMMARY:Lab configuration and network diagram
DTSTART;TZID=America/Los_Angeles:20260421T190000
DTEND;TZID=America/Los_Angeles:20260421T200000
LOCATION:https://www.learndesk.us/class/6114196099956736/lesson/c80d22b6233b1cd5a51a7178eb08c973?ref=outlook-calendar
DESCRIPTION: Lab diagram depicting your lab environment and configuration.

https://www.learndesk.us/class/6114196099956736/lesson/c80d22b6233b1cd5a51a7178eb08c973?ref=outlook-calendar
STATUS:CONFIRMED
SEQUENCE:3
BEGIN:VALARM
TRIGGER:-PT10M
DESCRIPTION:Class Reminder
ACTION:DISPLAY
END:VALARM
END:VEVENT
END:VCALENDAR