BEGIN:VCALENDAR
VERSION:2.0
CALSCALE:GREGORIAN
BEGIN:VEVENT
URL:https://www.learndesk.us/class/6114196099956736/lesson/c44f7d369901401eac823ed7b5d89441?ref=outlook-calendar
SUMMARY:Start Here!
DTSTART;TZID=America/Los_Angeles:20260421T190000
DTEND;TZID=America/Los_Angeles:20260421T200000
LOCATION:https://www.learndesk.us/class/6114196099956736/lesson/c44f7d369901401eac823ed7b5d89441?ref=outlook-calendar
DESCRIPTION: Short video overview of what to expect from the Server 2016 course.

https://www.learndesk.us/class/6114196099956736/lesson/c44f7d369901401eac823ed7b5d89441?ref=outlook-calendar
STATUS:CONFIRMED
SEQUENCE:3
BEGIN:VALARM
TRIGGER:-PT10M
DESCRIPTION:Class Reminder
ACTION:DISPLAY
END:VALARM
END:VEVENT
END:VCALENDAR