BEGIN:VCALENDAR
VERSION:2.0
CALSCALE:GREGORIAN
BEGIN:VEVENT
URL:https://www.learndesk.us/class/6114196099956736/lesson/c3e0370727ceaff7f315e58e38e0465d?ref=outlook-calendar
SUMMARY:Video - Allow an inbound port in a Windows 2016 Firewall
DTSTART;TZID=America/Los_Angeles:20260421T190000
DTEND;TZID=America/Los_Angeles:20260421T200000
LOCATION:https://www.learndesk.us/class/6114196099956736/lesson/c3e0370727ceaff7f315e58e38e0465d?ref=outlook-calendar
DESCRIPTION: In this short video, you will learn to allow an inbound connection (port) through your Windows Firewall.

https://www.learndesk.us/class/6114196099956736/lesson/c3e0370727ceaff7f315e58e38e0465d?ref=outlook-calendar
STATUS:CONFIRMED
SEQUENCE:3
BEGIN:VALARM
TRIGGER:-PT10M
DESCRIPTION:Class Reminder
ACTION:DISPLAY
END:VALARM
END:VEVENT
END:VCALENDAR