BEGIN:VCALENDAR
VERSION:2.0
CALSCALE:GREGORIAN
BEGIN:VEVENT
URL:https://www.learndesk.us/class/6114196099956736/lesson/b80f8e51f83fe3f06cb65a7bc7ad3dc9?ref=outlook-calendar
SUMMARY:Video - Use filters in DHCP to deny clients DHCP services
DTSTART;TZID=America/Los_Angeles:20260421T190000
DTEND;TZID=America/Los_Angeles:20260421T200000
LOCATION:https://www.learndesk.us/class/6114196099956736/lesson/b80f8e51f83fe3f06cb65a7bc7ad3dc9?ref=outlook-calendar
DESCRIPTION: In this short video presentation, you will learn how to use filters in DHCP to deny certain clients access to DHCP options.

https://www.learndesk.us/class/6114196099956736/lesson/b80f8e51f83fe3f06cb65a7bc7ad3dc9?ref=outlook-calendar
STATUS:CONFIRMED
SEQUENCE:3
BEGIN:VALARM
TRIGGER:-PT10M
DESCRIPTION:Class Reminder
ACTION:DISPLAY
END:VALARM
END:VEVENT
END:VCALENDAR