BEGIN:VCALENDAR
VERSION:2.0
CALSCALE:GREGORIAN
BEGIN:VEVENT
URL:https://www.learndesk.us/class/6114196099956736/lesson/b5eceef34be9ce99d65469f22bbe03af?ref=outlook-calendar
SUMMARY:Video - Unlock a user account
DTSTART;TZID=America/Los_Angeles:20260421T190000
DTEND;TZID=America/Los_Angeles:20260421T200000
LOCATION:https://www.learndesk.us/class/6114196099956736/lesson/b5eceef34be9ce99d65469f22bbe03af?ref=outlook-calendar
DESCRIPTION: In this short video, learn how to quickly unlock a user's account.

https://www.learndesk.us/class/6114196099956736/lesson/b5eceef34be9ce99d65469f22bbe03af?ref=outlook-calendar
STATUS:CONFIRMED
SEQUENCE:3
BEGIN:VALARM
TRIGGER:-PT10M
DESCRIPTION:Class Reminder
ACTION:DISPLAY
END:VALARM
END:VEVENT
END:VCALENDAR