BEGIN:VCALENDAR
VERSION:2.0
CALSCALE:GREGORIAN
BEGIN:VEVENT
URL:https://www.learndesk.us/class/6114196099956736/lesson/b50e3781c552fb8766191d546ed0f0d0?ref=outlook-calendar
SUMMARY:Video - Reset a lost Administrator password
DTSTART;TZID=America/Los_Angeles:20260421T190000
DTEND;TZID=America/Los_Angeles:20260421T200000
LOCATION:https://www.learndesk.us/class/6114196099956736/lesson/b50e3781c552fb8766191d546ed0f0d0?ref=outlook-calendar
DESCRIPTION: In this lab, you will learn how to reset a lost administrator password for a Windows 2016 or 2019 standalone server or domain controller. Anyone who works with Microsoft operating systems long enough will be called upon to either reset or attempt to recover a lost or forgotten administrative password. Administrator’s quit or get terminated, and some will reset the administrator password on the way out the door. Office managers forget their server administrator password or the machine has become infected with malware.

https://www.learndesk.us/class/6114196099956736/lesson/b50e3781c552fb8766191d546ed0f0d0?ref=outlook-calendar
STATUS:CONFIRMED
SEQUENCE:3
BEGIN:VALARM
TRIGGER:-PT10M
DESCRIPTION:Class Reminder
ACTION:DISPLAY
END:VALARM
END:VEVENT
END:VCALENDAR