BEGIN:VCALENDAR
VERSION:2.0
CALSCALE:GREGORIAN
BEGIN:VEVENT
URL:https://www.learndesk.us/class/6114196099956736/lesson/ae2cc0997e846e29a649f1cd74f633a7?ref=outlook-calendar
SUMMARY:Video - Fix Access Denied when deleting Active Directory objects
DTSTART;TZID=America/Los_Angeles:20260421T190000
DTEND;TZID=America/Los_Angeles:20260421T200000
LOCATION:https://www.learndesk.us/class/6114196099956736/lesson/ae2cc0997e846e29a649f1cd74f633a7?ref=outlook-calendar
DESCRIPTION: In this short video, you will learn how to fix the issue of not being able to delete an object in Active Directory Users and Computers.

https://www.learndesk.us/class/6114196099956736/lesson/ae2cc0997e846e29a649f1cd74f633a7?ref=outlook-calendar
STATUS:CONFIRMED
SEQUENCE:3
BEGIN:VALARM
TRIGGER:-PT10M
DESCRIPTION:Class Reminder
ACTION:DISPLAY
END:VALARM
END:VEVENT
END:VCALENDAR