BEGIN:VCALENDAR
VERSION:2.0
CALSCALE:GREGORIAN
BEGIN:VEVENT
URL:https://www.learndesk.us/class/6114196099956736/lesson/aaf17a716d8b322b1aaf0f874f60e4e7?ref=outlook-calendar
SUMMARY:Video - Create a host Record for a new website in Microsoft DNS
DTSTART;TZID=America/Los_Angeles:20260421T190000
DTEND;TZID=America/Los_Angeles:20260421T200000
LOCATION:https://www.learndesk.us/class/6114196099956736/lesson/aaf17a716d8b322b1aaf0f874f60e4e7?ref=outlook-calendar
DESCRIPTION: In this short video presentation, you will learn how to create a new host record in Microsoft DNS for a new Website.

https://www.learndesk.us/class/6114196099956736/lesson/aaf17a716d8b322b1aaf0f874f60e4e7?ref=outlook-calendar
STATUS:CONFIRMED
SEQUENCE:3
BEGIN:VALARM
TRIGGER:-PT10M
DESCRIPTION:Class Reminder
ACTION:DISPLAY
END:VALARM
END:VEVENT
END:VCALENDAR