BEGIN:VCALENDAR
VERSION:2.0
CALSCALE:GREGORIAN
BEGIN:VEVENT
URL:https://www.learndesk.us/class/6114196099956736/lesson/a93da44f891986a7c1524dc13ee15407?ref=outlook-calendar
SUMMARY:Video - Join Server 2016 Core to Windows 2016 Domain
DTSTART;TZID=America/Los_Angeles:20260421T190000
DTEND;TZID=America/Los_Angeles:20260421T200000
LOCATION:https://www.learndesk.us/class/6114196099956736/lesson/a93da44f891986a7c1524dc13ee15407?ref=outlook-calendar
DESCRIPTION: In this lab, you will learn how to prepare and join Server Core to an existing domain.

https://www.learndesk.us/class/6114196099956736/lesson/a93da44f891986a7c1524dc13ee15407?ref=outlook-calendar
STATUS:CONFIRMED
SEQUENCE:3
BEGIN:VALARM
TRIGGER:-PT10M
DESCRIPTION:Class Reminder
ACTION:DISPLAY
END:VALARM
END:VEVENT
END:VCALENDAR