BEGIN:VCALENDAR
VERSION:2.0
CALSCALE:GREGORIAN
BEGIN:VEVENT
URL:https://www.learndesk.us/class/6114196099956736/lesson/9a81b48721eb82f9bf7228ef8e2321d8?ref=outlook-calendar
SUMMARY:Video - Authorize a Windows 2016 DHCP Server
DTSTART;TZID=America/Los_Angeles:20260421T190000
DTEND;TZID=America/Los_Angeles:20260421T200000
LOCATION:https://www.learndesk.us/class/6114196099956736/lesson/9a81b48721eb82f9bf7228ef8e2321d8?ref=outlook-calendar
DESCRIPTION: In this short video, you will learn to authorize and unauthorized a DHCP server for your 2016 domain.

https://www.learndesk.us/class/6114196099956736/lesson/9a81b48721eb82f9bf7228ef8e2321d8?ref=outlook-calendar
STATUS:CONFIRMED
SEQUENCE:3
BEGIN:VALARM
TRIGGER:-PT10M
DESCRIPTION:Class Reminder
ACTION:DISPLAY
END:VALARM
END:VEVENT
END:VCALENDAR