BEGIN:VCALENDAR
VERSION:2.0
CALSCALE:GREGORIAN
BEGIN:VEVENT
URL:https://www.learndesk.us/class/6114196099956736/lesson/961bfe7ef27f03e1832888b8fa9b4d3b?ref=outlook-calendar
SUMMARY:Video - Create a user in Active Directory
DTSTART;TZID=America/Los_Angeles:20260421T190000
DTEND;TZID=America/Los_Angeles:20260421T200000
LOCATION:https://www.learndesk.us/class/6114196099956736/lesson/961bfe7ef27f03e1832888b8fa9b4d3b?ref=outlook-calendar
DESCRIPTION: In this short video, you'll learn how to make a standard user in Active Directory User and Computers.

https://www.learndesk.us/class/6114196099956736/lesson/961bfe7ef27f03e1832888b8fa9b4d3b?ref=outlook-calendar
STATUS:CONFIRMED
SEQUENCE:3
BEGIN:VALARM
TRIGGER:-PT10M
DESCRIPTION:Class Reminder
ACTION:DISPLAY
END:VALARM
END:VEVENT
END:VCALENDAR