BEGIN:VCALENDAR
VERSION:2.0
CALSCALE:GREGORIAN
BEGIN:VEVENT
URL:https://www.learndesk.us/class/6114196099956736/lesson/937563084ced82051185cb5441780b86?ref=outlook-calendar
SUMMARY:(Optional) Video - Create a Replica 2016 Domain Controller
DTSTART;TZID=America/Los_Angeles:20260421T190000
DTEND;TZID=America/Los_Angeles:20260421T200000
LOCATION:https://www.learndesk.us/class/6114196099956736/lesson/937563084ced82051185cb5441780b86?ref=outlook-calendar
DESCRIPTION: In this optional lab, you will learn how to add a replica (secondary or backup domain controller) to an existing 2016 domain for redundancy and fault tolerance.

https://www.learndesk.us/class/6114196099956736/lesson/937563084ced82051185cb5441780b86?ref=outlook-calendar
STATUS:CONFIRMED
SEQUENCE:3
BEGIN:VALARM
TRIGGER:-PT10M
DESCRIPTION:Class Reminder
ACTION:DISPLAY
END:VALARM
END:VEVENT
END:VCALENDAR