BEGIN:VCALENDAR
VERSION:2.0
CALSCALE:GREGORIAN
BEGIN:VEVENT
URL:https://www.learndesk.us/class/6114196099956736/lesson/874cc11e6089f58f01873d16ea2bff36?ref=outlook-calendar
SUMMARY:Video - How to format a volume with FAT32 in Windows Server
DTSTART;TZID=America/Los_Angeles:20260421T190000
DTEND;TZID=America/Los_Angeles:20260421T200000
LOCATION:https://www.learndesk.us/class/6114196099956736/lesson/874cc11e6089f58f01873d16ea2bff36?ref=outlook-calendar
DESCRIPTION: In this short video presentation, you will learn how to format a volume using FAT32.

https://www.learndesk.us/class/6114196099956736/lesson/874cc11e6089f58f01873d16ea2bff36?ref=outlook-calendar
STATUS:CONFIRMED
SEQUENCE:3
BEGIN:VALARM
TRIGGER:-PT10M
DESCRIPTION:Class Reminder
ACTION:DISPLAY
END:VALARM
END:VEVENT
END:VCALENDAR