BEGIN:VCALENDAR
VERSION:2.0
CALSCALE:GREGORIAN
BEGIN:VEVENT
URL:https://www.learndesk.us/class/6114196099956736/lesson/85c8ebd68dccbb2b9bd411db1ff37a88?ref=outlook-calendar
SUMMARY:Video - Turn the firewall on or off in Windows 2016 Server
DTSTART;TZID=America/Los_Angeles:20260421T190000
DTEND;TZID=America/Los_Angeles:20260421T200000
LOCATION:https://www.learndesk.us/class/6114196099956736/lesson/85c8ebd68dccbb2b9bd411db1ff37a88?ref=outlook-calendar
DESCRIPTION: In this short video, you will learn how to disable and enable the Windows firewall.

https://www.learndesk.us/class/6114196099956736/lesson/85c8ebd68dccbb2b9bd411db1ff37a88?ref=outlook-calendar
STATUS:CONFIRMED
SEQUENCE:3
BEGIN:VALARM
TRIGGER:-PT10M
DESCRIPTION:Class Reminder
ACTION:DISPLAY
END:VALARM
END:VEVENT
END:VCALENDAR