BEGIN:VCALENDAR
VERSION:2.0
CALSCALE:GREGORIAN
BEGIN:VEVENT
URL:https://www.learndesk.us/class/6114196099956736/lesson/83bbe7d1d2e0d3bbea0c5b4527a6f3a0?ref=outlook-calendar
SUMMARY:Video - Join a Windows 10 Workstation to a Microsoft Domain
DTSTART;TZID=America/Los_Angeles:20260421T190000
DTEND;TZID=America/Los_Angeles:20260421T200000
LOCATION:https://www.learndesk.us/class/6114196099956736/lesson/83bbe7d1d2e0d3bbea0c5b4527a6f3a0?ref=outlook-calendar
DESCRIPTION: In this lab, you will learn how to prepare and join a Windows 10 client to an existing windows domain.

https://www.learndesk.us/class/6114196099956736/lesson/83bbe7d1d2e0d3bbea0c5b4527a6f3a0?ref=outlook-calendar
STATUS:CONFIRMED
SEQUENCE:3
BEGIN:VALARM
TRIGGER:-PT10M
DESCRIPTION:Class Reminder
ACTION:DISPLAY
END:VALARM
END:VEVENT
END:VCALENDAR