BEGIN:VCALENDAR
VERSION:2.0
CALSCALE:GREGORIAN
BEGIN:VEVENT
URL:https://www.learndesk.us/class/6114196099956736/lesson/7ba1b2345fbf43e0f15d27b030d5f589?ref=outlook-calendar
SUMMARY:Video - Add a network printer in Windows server 2016
DTSTART;TZID=America/Los_Angeles:20260421T190000
DTEND;TZID=America/Los_Angeles:20260421T200000
LOCATION:https://www.learndesk.us/class/6114196099956736/lesson/7ba1b2345fbf43e0f15d27b030d5f589?ref=outlook-calendar
DESCRIPTION: In this short video presentation, you will learn how to create and share a network printer using TCP/IP.

https://www.learndesk.us/class/6114196099956736/lesson/7ba1b2345fbf43e0f15d27b030d5f589?ref=outlook-calendar
STATUS:CONFIRMED
SEQUENCE:3
BEGIN:VALARM
TRIGGER:-PT10M
DESCRIPTION:Class Reminder
ACTION:DISPLAY
END:VALARM
END:VEVENT
END:VCALENDAR