BEGIN:VCALENDAR
VERSION:2.0
CALSCALE:GREGORIAN
BEGIN:VEVENT
URL:https://www.learndesk.us/class/6114196099956736/lesson/77cb817c73ca19cf0e241f481f6e0958?ref=outlook-calendar
SUMMARY:Video - How to Backup and Restore the Windows Registry
DTSTART;TZID=America/Los_Angeles:20260421T190000
DTEND;TZID=America/Los_Angeles:20260421T200000
LOCATION:https://www.learndesk.us/class/6114196099956736/lesson/77cb817c73ca19cf0e241f481f6e0958?ref=outlook-calendar
DESCRIPTION: In this lesson, you will learn how to backup and restore the Windows registry.

https://www.learndesk.us/class/6114196099956736/lesson/77cb817c73ca19cf0e241f481f6e0958?ref=outlook-calendar
STATUS:CONFIRMED
SEQUENCE:3
BEGIN:VALARM
TRIGGER:-PT10M
DESCRIPTION:Class Reminder
ACTION:DISPLAY
END:VALARM
END:VEVENT
END:VCALENDAR