BEGIN:VCALENDAR
VERSION:2.0
CALSCALE:GREGORIAN
BEGIN:VEVENT
URL:https://www.learndesk.us/class/6114196099956736/lesson/6c2be3da6efb0156af2d3a5dd94703f4?ref=outlook-calendar
SUMMARY:Video - Move an object to a new organizational unit in Active Directory
DTSTART;TZID=America/Los_Angeles:20260421T190000
DTEND;TZID=America/Los_Angeles:20260421T200000
LOCATION:https://www.learndesk.us/class/6114196099956736/lesson/6c2be3da6efb0156af2d3a5dd94703f4?ref=outlook-calendar
DESCRIPTION: In this short video, you will learn how to move an object from one OU to another.

https://www.learndesk.us/class/6114196099956736/lesson/6c2be3da6efb0156af2d3a5dd94703f4?ref=outlook-calendar
STATUS:CONFIRMED
SEQUENCE:3
BEGIN:VALARM
TRIGGER:-PT10M
DESCRIPTION:Class Reminder
ACTION:DISPLAY
END:VALARM
END:VEVENT
END:VCALENDAR