BEGIN:VCALENDAR
VERSION:2.0
CALSCALE:GREGORIAN
BEGIN:VEVENT
URL:https://www.learndesk.us/class/6114196099956736/lesson/6bcb99b099ade23b04a8cc7269cc6c12?ref=outlook-calendar
SUMMARY:Video - Create an Organizational Unit
DTSTART;TZID=America/Los_Angeles:20260421T190000
DTEND;TZID=America/Los_Angeles:20260421T200000
LOCATION:https://www.learndesk.us/class/6114196099956736/lesson/6bcb99b099ade23b04a8cc7269cc6c12?ref=outlook-calendar
DESCRIPTION: In the short video, you will learn how to create an organization unit (OU) in Active Directory.

https://www.learndesk.us/class/6114196099956736/lesson/6bcb99b099ade23b04a8cc7269cc6c12?ref=outlook-calendar
STATUS:CONFIRMED
SEQUENCE:3
BEGIN:VALARM
TRIGGER:-PT10M
DESCRIPTION:Class Reminder
ACTION:DISPLAY
END:VALARM
END:VEVENT
END:VCALENDAR