BEGIN:VCALENDAR
VERSION:2.0
CALSCALE:GREGORIAN
BEGIN:VEVENT
URL:https://www.learndesk.us/class/6114196099956736/lesson/65119f76edd6bf562141d6ab2846330a?ref=outlook-calendar
SUMMARY:Video - How to Edit the default gateway settings in DHCP
DTSTART;TZID=America/Los_Angeles:20260421T190000
DTEND;TZID=America/Los_Angeles:20260421T200000
LOCATION:https://www.learndesk.us/class/6114196099956736/lesson/65119f76edd6bf562141d6ab2846330a?ref=outlook-calendar
DESCRIPTION: In this short video presentation, you will learn how to edit the router setting in DHCP for Windows Server.

https://www.learndesk.us/class/6114196099956736/lesson/65119f76edd6bf562141d6ab2846330a?ref=outlook-calendar
STATUS:CONFIRMED
SEQUENCE:3
BEGIN:VALARM
TRIGGER:-PT10M
DESCRIPTION:Class Reminder
ACTION:DISPLAY
END:VALARM
END:VEVENT
END:VCALENDAR