BEGIN:VCALENDAR
VERSION:2.0
CALSCALE:GREGORIAN
BEGIN:VEVENT
URL:https://www.learndesk.us/class/6114196099956736/lesson/6400c587442728701c93df9c8fbe787d?ref=outlook-calendar
SUMMARY:Video - Install and use the Print Management role in Windows Server 2016
DTSTART;TZID=America/Los_Angeles:20260421T190000
DTEND;TZID=America/Los_Angeles:20260421T200000
LOCATION:https://www.learndesk.us/class/6114196099956736/lesson/6400c587442728701c93df9c8fbe787d?ref=outlook-calendar
DESCRIPTION: In the short video, you will learn how to ease the burden of managing your network printers in your Server 2016 domain using the Print Management console.

https://www.learndesk.us/class/6114196099956736/lesson/6400c587442728701c93df9c8fbe787d?ref=outlook-calendar
STATUS:CONFIRMED
SEQUENCE:3
BEGIN:VALARM
TRIGGER:-PT10M
DESCRIPTION:Class Reminder
ACTION:DISPLAY
END:VALARM
END:VEVENT
END:VCALENDAR