BEGIN:VCALENDAR
VERSION:2.0
CALSCALE:GREGORIAN
BEGIN:VEVENT
URL:https://www.learndesk.us/class/6114196099956736/lesson/61c6c04befa253b9b23de2ad0992223b?ref=outlook-calendar
SUMMARY:Video - Create a new DNS host record
DTSTART;TZID=America/Los_Angeles:20260421T190000
DTEND;TZID=America/Los_Angeles:20260421T200000
LOCATION:https://www.learndesk.us/class/6114196099956736/lesson/61c6c04befa253b9b23de2ad0992223b?ref=outlook-calendar
DESCRIPTION: In this short video presentation, you will learn how to create a new DNS host record in Windows Server.

https://www.learndesk.us/class/6114196099956736/lesson/61c6c04befa253b9b23de2ad0992223b?ref=outlook-calendar
STATUS:CONFIRMED
SEQUENCE:3
BEGIN:VALARM
TRIGGER:-PT10M
DESCRIPTION:Class Reminder
ACTION:DISPLAY
END:VALARM
END:VEVENT
END:VCALENDAR