BEGIN:VCALENDAR
VERSION:2.0
CALSCALE:GREGORIAN
BEGIN:VEVENT
URL:https://www.learndesk.us/class/6114196099956736/lesson/5c130c136d58c3a5d516a41a9a816b8b?ref=outlook-calendar
SUMMARY:Video and Lab - Setup Work Folders in a Windows Domain
DTSTART;TZID=America/Los_Angeles:20260421T190000
DTEND;TZID=America/Los_Angeles:20260421T200000
LOCATION:https://www.learndesk.us/class/6114196099956736/lesson/5c130c136d58c3a5d516a41a9a816b8b?ref=outlook-calendar
DESCRIPTION: In this lab, you will learn how to set up work folders for group collaboration.

https://www.learndesk.us/class/6114196099956736/lesson/5c130c136d58c3a5d516a41a9a816b8b?ref=outlook-calendar
STATUS:CONFIRMED
SEQUENCE:3
BEGIN:VALARM
TRIGGER:-PT10M
DESCRIPTION:Class Reminder
ACTION:DISPLAY
END:VALARM
END:VEVENT
END:VCALENDAR