BEGIN:VCALENDAR
VERSION:2.0
CALSCALE:GREGORIAN
BEGIN:VEVENT
URL:https://www.learndesk.us/class/6114196099956736/lesson/580944bc3934c82ebfd4471bdf14acfb?ref=outlook-calendar
SUMMARY:Video - Configure Group Policy to Trust a Self-Signed Certificate
DTSTART;TZID=America/Los_Angeles:20260421T190000
DTEND;TZID=America/Los_Angeles:20260421T200000
LOCATION:https://www.learndesk.us/class/6114196099956736/lesson/580944bc3934c82ebfd4471bdf14acfb?ref=outlook-calendar
DESCRIPTION: In this lab, you will learn how to use Group Policy to trust a self-signed certificate.

https://www.learndesk.us/class/6114196099956736/lesson/580944bc3934c82ebfd4471bdf14acfb?ref=outlook-calendar
STATUS:CONFIRMED
SEQUENCE:3
BEGIN:VALARM
TRIGGER:-PT10M
DESCRIPTION:Class Reminder
ACTION:DISPLAY
END:VALARM
END:VEVENT
END:VCALENDAR