BEGIN:VCALENDAR
VERSION:2.0
CALSCALE:GREGORIAN
BEGIN:VEVENT
URL:https://www.learndesk.us/class/6114196099956736/lesson/522d40a5bad1f0c856d838ad16926c0f?ref=outlook-calendar
SUMMARY:Video - Server and Scope options in Windows server 2016
DTSTART;TZID=America/Los_Angeles:20260421T190000
DTEND;TZID=America/Los_Angeles:20260421T200000
LOCATION:https://www.learndesk.us/class/6114196099956736/lesson/522d40a5bad1f0c856d838ad16926c0f?ref=outlook-calendar
DESCRIPTION: In this short video, you will learn about the difference between server and scope options.

https://www.learndesk.us/class/6114196099956736/lesson/522d40a5bad1f0c856d838ad16926c0f?ref=outlook-calendar
STATUS:CONFIRMED
SEQUENCE:3
BEGIN:VALARM
TRIGGER:-PT10M
DESCRIPTION:Class Reminder
ACTION:DISPLAY
END:VALARM
END:VEVENT
END:VCALENDAR