BEGIN:VCALENDAR
VERSION:2.0
CALSCALE:GREGORIAN
BEGIN:VEVENT
URL:https://www.learndesk.us/class/6114196099956736/lesson/5025ae9a6fa1c36b4e10ee3846b10085?ref=outlook-calendar
SUMMARY:DNS
DTSTART;TZID=America/Los_Angeles:20260421T190000
DTEND;TZID=America/Los_Angeles:20260421T200000
LOCATION:https://www.learndesk.us/class/6114196099956736/lesson/5025ae9a6fa1c36b4e10ee3846b10085?ref=outlook-calendar
DESCRIPTION: How to manage and configure the DNS role in Microsoft Domain

https://www.learndesk.us/class/6114196099956736/lesson/5025ae9a6fa1c36b4e10ee3846b10085?ref=outlook-calendar
STATUS:CONFIRMED
SEQUENCE:3
BEGIN:VALARM
TRIGGER:-PT10M
DESCRIPTION:Class Reminder
ACTION:DISPLAY
END:VALARM
END:VEVENT
END:VCALENDAR