BEGIN:VCALENDAR
VERSION:2.0
CALSCALE:GREGORIAN
BEGIN:VEVENT
URL:https://www.learndesk.us/class/6114196099956736/lesson/4a5868c4c8c27e78cbc6b3e894165ec4?ref=outlook-calendar
SUMMARY:Speed Learning.... IIS
DTSTART;TZID=America/Los_Angeles:20260421T190000
DTEND;TZID=America/Los_Angeles:20260421T200000
LOCATION:https://www.learndesk.us/class/6114196099956736/lesson/4a5868c4c8c27e78cbc6b3e894165ec4?ref=outlook-calendar
DESCRIPTION: Quickly learn how to install and manage an IIS on windows server.

https://www.learndesk.us/class/6114196099956736/lesson/4a5868c4c8c27e78cbc6b3e894165ec4?ref=outlook-calendar
STATUS:CONFIRMED
SEQUENCE:3
BEGIN:VALARM
TRIGGER:-PT10M
DESCRIPTION:Class Reminder
ACTION:DISPLAY
END:VALARM
END:VEVENT
END:VCALENDAR