BEGIN:VCALENDAR
VERSION:2.0
CALSCALE:GREGORIAN
BEGIN:VEVENT
URL:https://www.learndesk.us/class/6114196099956736/lesson/465571bfbaf7d9075dce944b7680787d?ref=outlook-calendar
SUMMARY:Video - Using Powershell to Gather Firewall Information
DTSTART;TZID=America/Los_Angeles:20260421T190000
DTEND;TZID=America/Los_Angeles:20260421T200000
LOCATION:https://www.learndesk.us/class/6114196099956736/lesson/465571bfbaf7d9075dce944b7680787d?ref=outlook-calendar
DESCRIPTION: In this short video presentation, you will learn how to use PowerShell to gather information about your Windows firewall.

https://www.learndesk.us/class/6114196099956736/lesson/465571bfbaf7d9075dce944b7680787d?ref=outlook-calendar
STATUS:CONFIRMED
SEQUENCE:3
BEGIN:VALARM
TRIGGER:-PT10M
DESCRIPTION:Class Reminder
ACTION:DISPLAY
END:VALARM
END:VEVENT
END:VCALENDAR