BEGIN:VCALENDAR
VERSION:2.0
CALSCALE:GREGORIAN
BEGIN:VEVENT
URL:https://www.learndesk.us/class/6114196099956736/lesson/418e7f9a5347d301c3ebd1db154ad4bc?ref=outlook-calendar
SUMMARY:Video - Backup and restore Group Policy objects in Active Directory
DTSTART;TZID=America/Los_Angeles:20260421T190000
DTEND;TZID=America/Los_Angeles:20260421T200000
LOCATION:https://www.learndesk.us/class/6114196099956736/lesson/418e7f9a5347d301c3ebd1db154ad4bc?ref=outlook-calendar
DESCRIPTION: In this short video presentation, you will learn how to backup and restore Group Policy objects in Active Directory.

https://www.learndesk.us/class/6114196099956736/lesson/418e7f9a5347d301c3ebd1db154ad4bc?ref=outlook-calendar
STATUS:CONFIRMED
SEQUENCE:3
BEGIN:VALARM
TRIGGER:-PT10M
DESCRIPTION:Class Reminder
ACTION:DISPLAY
END:VALARM
END:VEVENT
END:VCALENDAR