BEGIN:VCALENDAR
VERSION:2.0
CALSCALE:GREGORIAN
BEGIN:VEVENT
URL:https://www.learndesk.us/class/6114196099956736/lesson/3d3dc7ca93d64e9d63754b686d11e4e3?ref=outlook-calendar
SUMMARY:Speed Learning ....Server 2016 Administration
DTSTART;TZID=America/Los_Angeles:20260421T190000
DTEND;TZID=America/Los_Angeles:20260421T200000
LOCATION:https://www.learndesk.us/class/6114196099956736/lesson/3d3dc7ca93d64e9d63754b686d11e4e3?ref=outlook-calendar
DESCRIPTION: How to easily administer Server 2016 system properties.

https://www.learndesk.us/class/6114196099956736/lesson/3d3dc7ca93d64e9d63754b686d11e4e3?ref=outlook-calendar
STATUS:CONFIRMED
SEQUENCE:3
BEGIN:VALARM
TRIGGER:-PT10M
DESCRIPTION:Class Reminder
ACTION:DISPLAY
END:VALARM
END:VEVENT
END:VCALENDAR