BEGIN:VCALENDAR
VERSION:2.0
CALSCALE:GREGORIAN
BEGIN:VEVENT
URL:https://www.learndesk.us/class/6114196099956736/lesson/39bc67c6d31ee4aff7cf23cd556e970d?ref=outlook-calendar
SUMMARY:Disk Management
DTSTART;TZID=America/Los_Angeles:20260421T190000
DTEND;TZID=America/Los_Angeles:20260421T200000
LOCATION:https://www.learndesk.us/class/6114196099956736/lesson/39bc67c6d31ee4aff7cf23cd556e970d?ref=outlook-calendar
DESCRIPTION: How to manage disks on a  Microsoft Windows Server

https://www.learndesk.us/class/6114196099956736/lesson/39bc67c6d31ee4aff7cf23cd556e970d?ref=outlook-calendar
STATUS:CONFIRMED
SEQUENCE:3
BEGIN:VALARM
TRIGGER:-PT10M
DESCRIPTION:Class Reminder
ACTION:DISPLAY
END:VALARM
END:VEVENT
END:VCALENDAR