BEGIN:VCALENDAR
VERSION:2.0
CALSCALE:GREGORIAN
BEGIN:VEVENT
URL:https://www.learndesk.us/class/6114196099956736/lesson/3151ecd73205179cb6920233660dd578?ref=outlook-calendar
SUMMARY:Video - Change the date, time and numbers format in Server 2016.
DTSTART;TZID=America/Los_Angeles:20260421T190000
DTEND;TZID=America/Los_Angeles:20260421T200000
LOCATION:https://www.learndesk.us/class/6114196099956736/lesson/3151ecd73205179cb6920233660dd578?ref=outlook-calendar
DESCRIPTION: In this short video, you will learn how to change the date, time and number format n Server 2016.

https://www.learndesk.us/class/6114196099956736/lesson/3151ecd73205179cb6920233660dd578?ref=outlook-calendar
STATUS:CONFIRMED
SEQUENCE:3
BEGIN:VALARM
TRIGGER:-PT10M
DESCRIPTION:Class Reminder
ACTION:DISPLAY
END:VALARM
END:VEVENT
END:VCALENDAR