BEGIN:VCALENDAR
VERSION:2.0
CALSCALE:GREGORIAN
BEGIN:VEVENT
URL:https://www.learndesk.us/class/6114196099956736/lesson/305caeda108aef4ae6066cb147574008?ref=outlook-calendar
SUMMARY:Video - How to shrink or extend a volume in Windows Server
DTSTART;TZID=America/Los_Angeles:20260421T190000
DTEND;TZID=America/Los_Angeles:20260421T200000
LOCATION:https://www.learndesk.us/class/6114196099956736/lesson/305caeda108aef4ae6066cb147574008?ref=outlook-calendar
DESCRIPTION: In this short video presentation, you will learn how to easily shrink or extend an existing volume in Windows Server 2016.

https://www.learndesk.us/class/6114196099956736/lesson/305caeda108aef4ae6066cb147574008?ref=outlook-calendar
STATUS:CONFIRMED
SEQUENCE:3
BEGIN:VALARM
TRIGGER:-PT10M
DESCRIPTION:Class Reminder
ACTION:DISPLAY
END:VALARM
END:VEVENT
END:VCALENDAR