BEGIN:VCALENDAR
VERSION:2.0
CALSCALE:GREGORIAN
BEGIN:VEVENT
URL:https://www.learndesk.us/class/6114196099956736/lesson/300dd5be954e4d6b0416f9aafacbebe6?ref=outlook-calendar
SUMMARY:Video - Overview of the new start Menu for Server 2016
DTSTART;TZID=America/Los_Angeles:20260421T190000
DTEND;TZID=America/Los_Angeles:20260421T200000
LOCATION:https://www.learndesk.us/class/6114196099956736/lesson/300dd5be954e4d6b0416f9aafacbebe6?ref=outlook-calendar
DESCRIPTION: In this short video, you will be given a short overview of the new start menu for Server 2016.

https://www.learndesk.us/class/6114196099956736/lesson/300dd5be954e4d6b0416f9aafacbebe6?ref=outlook-calendar
STATUS:CONFIRMED
SEQUENCE:3
BEGIN:VALARM
TRIGGER:-PT10M
DESCRIPTION:Class Reminder
ACTION:DISPLAY
END:VALARM
END:VEVENT
END:VCALENDAR