BEGIN:VCALENDAR
VERSION:2.0
CALSCALE:GREGORIAN
BEGIN:VEVENT
URL:https://www.learndesk.us/class/6114196099956736/lesson/2fa2083347cb69f900e2ef2f01925a7a?ref=outlook-calendar
SUMMARY:Speed Learning ....Active Directory Administration!
DTSTART;TZID=America/Los_Angeles:20260421T190000
DTEND;TZID=America/Los_Angeles:20260421T200000
LOCATION:https://www.learndesk.us/class/6114196099956736/lesson/2fa2083347cb69f900e2ef2f01925a7a?ref=outlook-calendar
DESCRIPTION: In this section, students will use short 2-5 minute video tutorials to learn how to administer Active Directory.

https://www.learndesk.us/class/6114196099956736/lesson/2fa2083347cb69f900e2ef2f01925a7a?ref=outlook-calendar
STATUS:CONFIRMED
SEQUENCE:3
BEGIN:VALARM
TRIGGER:-PT10M
DESCRIPTION:Class Reminder
ACTION:DISPLAY
END:VALARM
END:VEVENT
END:VCALENDAR