BEGIN:VCALENDAR
VERSION:2.0
CALSCALE:GREGORIAN
BEGIN:VEVENT
URL:https://www.learndesk.us/class/6114196099956736/lesson/269bea4b237cf2a3e0bab09467f47b01?ref=outlook-calendar
SUMMARY:Speed Learning ....Group Policy
DTSTART;TZID=America/Los_Angeles:20260421T190000
DTEND;TZID=America/Los_Angeles:20260421T200000
LOCATION:https://www.learndesk.us/class/6114196099956736/lesson/269bea4b237cf2a3e0bab09467f47b01?ref=outlook-calendar
DESCRIPTION: In this section, students will learn how to use and configure Group Policy is Server 2016.

https://www.learndesk.us/class/6114196099956736/lesson/269bea4b237cf2a3e0bab09467f47b01?ref=outlook-calendar
STATUS:CONFIRMED
SEQUENCE:3
BEGIN:VALARM
TRIGGER:-PT10M
DESCRIPTION:Class Reminder
ACTION:DISPLAY
END:VALARM
END:VEVENT
END:VCALENDAR