BEGIN:VCALENDAR
VERSION:2.0
CALSCALE:GREGORIAN
BEGIN:VEVENT
URL:https://www.learndesk.us/class/6114196099956736/lesson/24c8a11d0efd3fc1c74f0dc268bc5f9f?ref=outlook-calendar
SUMMARY:Installing Server 2016 For VirtualBox users
DTSTART;TZID=America/Los_Angeles:20260425T190000
DTEND;TZID=America/Los_Angeles:20260425T200000
LOCATION:https://www.learndesk.us/class/6114196099956736/lesson/24c8a11d0efd3fc1c74f0dc268bc5f9f?ref=outlook-calendar
DESCRIPTION: How to build your Virtual Server 2016 Lab environment using Virtualbox.

https://www.learndesk.us/class/6114196099956736/lesson/24c8a11d0efd3fc1c74f0dc268bc5f9f?ref=outlook-calendar
STATUS:CONFIRMED
SEQUENCE:3
BEGIN:VALARM
TRIGGER:-PT10M
DESCRIPTION:Class Reminder
ACTION:DISPLAY
END:VALARM
END:VEVENT
END:VCALENDAR