BEGIN:VCALENDAR
VERSION:2.0
CALSCALE:GREGORIAN
BEGIN:VEVENT
URL:https://www.learndesk.us/class/6114196099956736/lesson/166deac6c0200e16695e932e5809c002?ref=outlook-calendar
SUMMARY:Video - Create a Shared Folder on a Windows Server
DTSTART;TZID=America/Los_Angeles:20260421T190000
DTEND;TZID=America/Los_Angeles:20260421T200000
LOCATION:https://www.learndesk.us/class/6114196099956736/lesson/166deac6c0200e16695e932e5809c002?ref=outlook-calendar
DESCRIPTION: In this lab, you will learn how to create a shared folder that can be accessed remotely anywhere on your network.

https://www.learndesk.us/class/6114196099956736/lesson/166deac6c0200e16695e932e5809c002?ref=outlook-calendar
STATUS:CONFIRMED
SEQUENCE:3
BEGIN:VALARM
TRIGGER:-PT10M
DESCRIPTION:Class Reminder
ACTION:DISPLAY
END:VALARM
END:VEVENT
END:VCALENDAR