BEGIN:VCALENDAR
VERSION:2.0
CALSCALE:GREGORIAN
BEGIN:VEVENT
URL:https://www.learndesk.us/class/6114196099956736/lesson/0e195a3dbe217cc3ff29bbf98ed82ae7?ref=outlook-calendar
SUMMARY:Video - Promote Server Core to a Domain Controller
DTSTART;TZID=America/Los_Angeles:20260425T190000
DTEND;TZID=America/Los_Angeles:20260425T200000
LOCATION:https://www.learndesk.us/class/6114196099956736/lesson/0e195a3dbe217cc3ff29bbf98ed82ae7?ref=outlook-calendar
DESCRIPTION: In this short video presentation, you will learn how to prepare and promote Server Core to a domain controller. The steps shown in this lab apply to Server 2012, 2016, and 2019.

https://www.learndesk.us/class/6114196099956736/lesson/0e195a3dbe217cc3ff29bbf98ed82ae7?ref=outlook-calendar
STATUS:CONFIRMED
SEQUENCE:3
BEGIN:VALARM
TRIGGER:-PT10M
DESCRIPTION:Class Reminder
ACTION:DISPLAY
END:VALARM
END:VEVENT
END:VCALENDAR