BEGIN:VCALENDAR
VERSION:2.0
CALSCALE:GREGORIAN
BEGIN:VEVENT
URL:https://www.learndesk.us/class/6114196099956736/lesson/09df9c718509c788b8fdb36ee7d6d599?ref=outlook-calendar
SUMMARY:Building a Microsoft Server 2016 Domain
DTSTART;TZID=America/Los_Angeles:20260421T190000
DTEND;TZID=America/Los_Angeles:20260421T200000
LOCATION:https://www.learndesk.us/class/6114196099956736/lesson/09df9c718509c788b8fdb36ee7d6d599?ref=outlook-calendar
DESCRIPTION: Students will be able to design and create a Microsoft Server 2016 domain network.

https://www.learndesk.us/class/6114196099956736/lesson/09df9c718509c788b8fdb36ee7d6d599?ref=outlook-calendar
STATUS:CONFIRMED
SEQUENCE:3
BEGIN:VALARM
TRIGGER:-PT10M
DESCRIPTION:Class Reminder
ACTION:DISPLAY
END:VALARM
END:VEVENT
END:VCALENDAR