BEGIN:VCALENDAR
VERSION:2.0
CALSCALE:GREGORIAN
BEGIN:VEVENT
URL:https://www.learndesk.us/class/6114196099956736/microsoft-windows-server-2016-hands-on-training-part-i?ref=outlook-calendar
SUMMARY:Microsoft Windows Server 2016: Hands-on Training - Part I
DTSTART;TZID=America/Los_Angeles:20260421T190000
DTEND;TZID=America/Los_Angeles:20260421T200000
LOCATION:https://www.learndesk.us/class/6114196099956736/microsoft-windows-server-2016-hands-on-training-part-i?ref=outlook-calendar
DESCRIPTION: 
Speed Learn Microsoft Windows Server 2016!
This course is designed for speed learning Server 2016. The course is broken down into bite-size, manageable chunks with most of the video tutorials being less than 5 minutes long and any tutorial over 5 minutes comes with a lab file to easily follow along with.
Open your virtual machine, follow along using a short, very concise video tutorial, move on to the next video, repeat.
In this first part, students will learn how to install and configure Windows Server 2016 just as they would as a network administrator or networking consultant.
Part I of the course trains the student on how to install, configure, and manage the most common roles and services found on a Microsoft 2016 network. Part II of the course will introduce the more advanced roles and features offered in Server 2016.
Microsoft Windows Server 2016 -Hands-on Training Part I is a Comprehensive  Microsoft Windows Server 2016 Hands-on Training Course.
Sections, 2 and 3 of the...

https://www.learndesk.us/class/6114196099956736/microsoft-windows-server-2016-hands-on-training-part-i?ref=outlook-calendar
STATUS:CONFIRMED
SEQUENCE:3
BEGIN:VALARM
TRIGGER:-PT10M
DESCRIPTION:Class Reminder
ACTION:DISPLAY
END:VALARM
END:VEVENT
END:VCALENDAR